BEGIN:VCALENDAR
VERSION:2.0
PRODID:icalendar-ruby
CALSCALE:GREGORIAN
METHOD:PUBLISH
BEGIN:VEVENT
DTSTAMP:20260419T123435Z
UID:75-1089688@unitycenternorwalk.org
DTSTART:20260426T163000Z
DTEND:20260426T174500Z
CLASS:PUBLIC
CREATED:20260325T122207
DESCRIPTION:Step into a realm of healing and transformation with master vi
 brational healer Bradford Tilden\, as he weaves sacred soundscapes thro
 ugh his voice and crystal singing bowls in a deeply restorative and
  soul-energizing meditation. We suggest that you bring a yoga mat for c
 omfort\, as you will be lying on the floor to allow yourself to be fully i
 mmersed in the experience.\nWe also ask that you please register in advan
 ce so we can plan accordingly and make your experience the best it can be
 . The fee for the event is $30 per person. \nWe have 3-hour parking dire
 ctly in front of the building\, or a little ways down the street is the Ma
 in St Lot with unlimited parking. Both parking areas are free on Sundays.\
 n \nhttps://unitycenternorwalk.breezechms.com/form/ba01eb57533877
LAST-MODIFIED:20260325T122207
LOCATION:Unity Center of Norwalk
SUMMARY:Vibrational Sound Bath
URL;VALUE=URI:https://www.unitycenternorwalk.org/events/vibrational-sound-b
 ath--75/2026-04-26
ATTACH;FILENAME=Sound Bath 4-26-26.png;FMTTYPE=image/png:https://dq5pwpg1q8
 ru0.cloudfront.net/2026/03/25/16/20/58/7ff1ece3-b7bb-4060-925d-621238689de
 5/Sound%20Bath%204-26-26.png
END:VEVENT
END:VCALENDAR
