BEGIN:VCALENDAR
VERSION:2.0
PRODID:icalendar-ruby
CALSCALE:GREGORIAN
METHOD:PUBLISH
BEGIN:VEVENT
DTSTAMP:20260419T123442Z
UID:77-1114878@unitycenternorwalk.org
DTSTART:20260517T163000Z
DTEND:20260517T174500Z
CLASS:PUBLIC
CREATED:20260417T101208
DESCRIPTION:Healing with the Angels\nAngels embody unconditional love.\nUnc
 onditional love means that no matter what has happened\, or what has not h
 appened\, we are loved. While we often view our lives through the lens of 
 worth and deserving\, the angels see us only with unconditional love. They
  know us intimately and love us fully.\n \nThe goal of this gathering is 
 to create space for more good in our lives. We will engage with the angels
  and ask them to heal every aspect of our lives\, such as anxiety\, agitat
 ion and fear. We will do this by first clearing the energy of our encounte
 rs and environments with Archangel Michael\, followed by connecting with h
 ealing angels\, such as Archangel Raphael. We will use simple and repeatab
 le techniques throughout. A fascinating aspect of working with angels is t
 hat our bodies respond instantly to their care\, which strengthens our rel
 ationship with them. We then have more access to freedom\, confidence and 
 expansion. Come and connect deeply with the angels and be filled up with l
 ove.\n \nMark Mezadourian is an intuitive specializing in connecting wit
 h angels and guides. Accessing spirituality with heart-centered practicali
 ty is the goal of his work. Free live events and recordings of angel exper
 iences are available on the meditation app Insight Timer (http://insig.ht/
 markmezadourian). Please visit his YouTube channel (https://www.youtube.co
 m/c/MarkMezadourian) to access free recordings for empaths\, healing\, rel
 axation and building a relationship with the angels. For information on al
 l events and intuitive readings\, please visit www.markmezadourian.com.\n
  \n"Healing with the Angels" Registration Link\n 
LAST-MODIFIED:20260417T101208
LOCATION:Unity Center of Norwalk
SUMMARY:Healing With The Angels
URL;VALUE=URI:https://www.unitycenternorwalk.org/events/healing-with-the-an
 gels/2026-05-17
ATTACH;FILENAME=Healing with the Angels - Less Words (1).png;FMTTYPE=image/
 png:https://dq5pwpg1q8ru0.cloudfront.net/2026/04/15/15/28/17/4c6e5c72-86e7
 -4169-bb53-9b1d889b15cc/Healing%20with%20the%20Angels%20-%20Less%20Words%2
 0(1).png
END:VEVENT
END:VCALENDAR
